{"text_format":"1","workbook":"xlsx","n_sheets":2,"sheets":["Ansatte","Dage"],"not_rendered":{"charts":0,"images":0,"macros":1,"external_links":0,"defined_names":1,"comments":0,"pivot_tables":0},"unopened":[],"bounds":{"document_bytes":16777216,"sheet_cells":100000,"rows_first":2000,"rows_last":500,"rows_between":2000,"halvings":0,"cell_chars":16384,"cell_head_chars":4096},"cells_cut":0,"cells_raw":0,"read":"whole","date_system":"1900"}

{"sheet":"Ansatte","index":0,"n_rows":55,"n_cols":281,"rows_kept":55,"cut":false,"hidden":false,"merged":[[0,7,1,7],[0,5,1,5],[0,3,1,3],[0,4,1,4],[0,6,1,6]]}
[null,"2009-04-30",null,"Sum afspads.","Sum ferie","Rest ferie(5 uger)","Sum ferie 6. uge","Rest ferie(6 uger)",null,{"$f":"HLOOKUP(Dage!J3,Dage!$A$1:$E$2,2,FALSE)","v":"Fre"},{"$f":"HLOOKUP(Dage!K3,Dage!$A$1:$E$2,2,FALSE)","v":"Man"},{"$f":"HLOOKUP(Dage!L3,Dage!$A$1:$E$2,2,FALSE)","v":"Tir"},{"$f":"HLOOKUP(Dage!M3,Dage!$A$1:$E$2,2,FALSE)","v":"Ons"},{"$f":"HLOOKUP(Dage!N3,Dage!$A$1:$E$2,2,FALSE)","v":"Tor"},{"$f":"HLOOKUP(Dage!O3,Dage!$A$1:$E$2,2,FALSE)","v":"Fre"},{"$f":"HLOOKUP(Dage!P3,Dage!$A$1:$E$2,2,FALSE)","v":"Man"},{"$f":"HLOOKUP(Dage!Q3,Dage!$A$1:$E$2,2,FALSE)","v":"Tir"},{"$f":"HLOOKUP(Dage!R3,Dage!$A$1:$E$2,2,FALSE)","v":"Ons"},{"$f":"HLOOKUP(Dage!S3,Dage!$A$1:$E$2,2,FALSE)","v":"Tor"},{"$f":"HLOOKUP(Dage!T3,Dage!$A$1:$E$2,2,FALSE)","v":"Fre"},{"$f":"HLOOKUP(Dage!U3,Dage!$A$1:$E$2,2,FALSE)","v":"Man"},{"$f":"HLOOKUP(Dage!V3,Dage!$A$1:$E$2,2,FALSE)","v":"Tir"},{"$f":"HLOOKUP(Dage!W3,Dage!$A$1:$E$2,2,FALSE)","v":"Ons"},{"$f":"HLOOKUP(Dage!X3,Dage!$A$1:$E$2,2,FALSE)","v":"Tor"},{"$f":"HLOOKUP(Dage!Y3,Dage!$A$1:$E$2,2,FALSE)","v":"Fre"},{"$f":"HLOOKUP(Dage!Z3,Dage!$A$1:$E$2,2,FALSE)","v":"Man"},{"$f":"HLOOKUP(Dage!AA3,Dage!$A$1:$E$2,2,FALSE)","v":"Tir"},{"$f":"HLOOKUP(Dage!AB3,Dage!$A$1:$E$2,2,FALSE)","v":"Ons"},{"$f":"HLOOKUP(Dage!AC3,Dage!$A$1:$E$2,2,FALSE)","v":"Tor"},{"$f":"HLOOKUP(Dage!AD3,Dage!$A$1:$E$2,2,FALSE)","v":"Fre"},null,{"$f":"HLOOKUP(Dage!AE3,Dage!$A$1:$E$2,2,FALSE)","v":"Man"},{"$f":"HLOOKUP(Dage!AG3,Dage!$A$1:$E$2,2,FALSE)","v":"Tir"},{"$f":"HLOOKUP(Dage!AH3,Dage!$A$1:$E$2,2,FALSE)","v":"Ons"},{"$f":"HLOOKUP(Dage!AI3,Dage!$A$1:$E$2,2,FALSE)","v":"Tor"},{"$f":"HLOOKUP(Dage!AJ3,Dage!$A$1:$E$2,2,FALSE)","v":"Fre"},{"$f":"HLOOKUP(Dage!AK3,Dage!$A$1:$E$2,2,FALSE)","v":"Man"},{"$f":"HLOOKUP(Dage!AL3,Dage!$A$1:$E$2,2,FALSE)","v":"Tir"},{"$f":"HLOOKUP(Dage!AM3,Dage!$A$1:$E$2,2,FALSE)","v":"Ons"},{"$f":"HLOOKUP(Dage!AN3,Dage!$A$1:$E$2,2,FALSE)","v":"Tor"},{"$f":"HLOOKUP(Dage!AO3,Dage!$A$1:$E$2,2,FALSE)","v":"Fre"},{"$f":"HLOOKUP(Dage!AP3,Dage!$A$1:$E$2,2,FALSE)","v":"Man"},{"$f":"HLOOKUP(Dage!AQ3,Dage!$A$1:$E$2,2,FALSE)","v":"Tir"},{"$f":"HLOOKUP(Dage!AR3,Dage!$A$1:$E$2,2,FALSE)","v":"Ons"},{"$f":"HLOOKUP(Dage!AS3,Dage!$A$1:$E$2,2,FALSE)","v":"Tor"},{"$f":"HLOOKUP(Dage!AT3,Dage!$A$1:$E$2,2,FALSE)","v":"Fre"},{"$f":"HLOOKUP(Dage!AU3,Dage!$A$1:$E$2,2,FALSE)","v":"Man"},{"$f":"HLOOKUP(Dage!AV3,Dage!$A$1:$E$2,2,FALSE)","v":"Tir"},{"$f":"HLOOKUP(Dage!AW3,Dage!$A$1:$E$2,2,FALSE)","v":"Ons"},{"$f":"HLOOKUP(Dage!AX3,Dage!$A$1:$E$2,2,FALSE)","v":"Tor"},{"$f":"HLOOKUP(Dage!AY3,Dage!$A$1:$E$2,2,FALSE)","v":"Fre"},{"$f":"HLOOKUP(Dage!AZ3,Dage!$A$1:$E$2,2,FALSE)","v":"Man"},{"$f":"HLOOKUP(Dage!BA3,Dage!$A$1:$E$2,2,FALSE)","v":"Tir"},null,{"$f":"HLOOKUP(Dage!BC3,Dage!$A$1:$E$2,2,FALSE)","v":"Ons"},{"$f":"HLOOKUP(Dage!BD3,Dage!$A$1:$E$2,2,FALSE)","v":"Tor"},{"$f":"HLOOKUP(Dage!BE3,Dage!$A$1:$E$2,2,FALSE)","v":"Fre"},{"$f":"HLOOKUP(Dage!BF3,Dage!$A$1:$E$2,2,FALSE)","v":"Man"},{"$f":"HLOOKUP(Dage!BG3,Dage!$A$1:$E$2,2,FALSE)","v":"Tir"},{"$f":"HLOOKUP(Dage!BH3,Dage!$A$1:$E$2,2,FALSE)","v":"Ons"},{"$f":"HLOOKUP(Dage!BI3,Dage!$A$1:$E$2,2,FALSE)","v":"Tor"},{"$f":"HLOOKUP(Dage!BJ3,Dage!$A$1:$E$2,2,FALSE)","v":"Fre"},{"$f":"HLOOKUP(Dage!BK3,Dage!$A$1:$E$2,2,FALSE)","v":"Man"},{"$f":"HLOOKUP(Dage!BL3,Dage!$A$1:$E$2,2,FALSE)","v":"Tir"},{"$f":"HLOOKUP(Dage!BM3,Dage!$A$1:$E$2,2,FALSE)","v":"Ons"},{"$f":"HLOOKUP(Dage!BN3,Dage!$A$1:$E$2,2,FALSE)","v":"Tor"},{"$f":"HLOOKUP(Dage!BO3,Dage!$A$1:$E$2,2,FALSE)","v":"Fre"},{"$f":"HLOOKUP(Dage!BP3,Dage!$A$1:$E$2,2,FALSE)","v":"Man"},{"$f":"HLOOKUP(Dage!BQ3,Dage!$A$1:$E$2,2,FALSE)","v":"Tir"},{"$f":"HLOOKUP(Dage!BR3,Dage!$A$1:$E$2,2,FALSE)","v":"Ons"},{"$f":"HLOOKUP(Dage!BS3,Dage!$A$1:$E$2,2,FALSE)","v":"Tor"},{"$f":"HLOOKUP(Dage!BT3,Dage!$A$1:$E$2,2,FALSE)","v":"Fre"},{"$f":"HLOOKUP(Dage!BU3,Dage!$A$1:$E$2,2,FALSE)","v":"Man"},{"$f":"HLOOKUP(Dage!BV3,Dage!$A$1:$E$2,2,FALSE)","v":"Tir"},{"$f":"HLOOKUP(Dage!BW3,Dage!$A$1:$E$2,2,FALSE)","v":"Ons"},{"$f":"HLOOKUP(Dage!BX3,Dage!$A$1:$E$2,2,FALSE)","v":"Tor"},{"$f":"HLOOKUP(Dage!BY3,Dage!$A$1:$E$2,2,FALSE)","v":"Fre"},null,{"$f":"HLOOKUP(Dage!CA3,Dage!$A$1:$E$2,2,FALSE)","v":"Man"},{"$f":"HLOOKUP(Dage!CB3,Dage!$A$1:$E$2,2,FALSE)","v":"Tir"},{"$f":"HLOOKUP(Dage!CC3,Dage!$A$1:$E$2,2,FALSE)","v":"Ons"},{"$f":"HLOOKUP(Dage!CD3,Dage!$A$1:$E$2,2,FALSE)","v":"Tor"},{"$f":"HLOOKUP(Dage!CE3,Dage!$A$1:$E$2,2,FALSE)","v":"Fre"},{"$f":"HLOOKUP(Dage!CF3,Dage!$A$1:$E$2,2,FALSE)","v":"Man"},{"$f":"HLOOKUP(Dage!CG3,Dage!$A$1:$E$2,2,FALSE)","v":"Tir"},{"$f":"HLOOKUP(Dage!CH3,Dage!$A$1:$E$2,2,FALSE)","v":"Ons"},{"$f":"HLOOKUP(Dage!CI3,Dage!$A$1:$E$2,2,FALSE)","v":"Tor"},{"$f":"HLOOKUP(Dage!CJ3,Dage!$A$1:$E$2,2,FALSE)","v":"Fre"},{"$f":"HLOOKUP(Dage!CK3,Dage!$A$1:$E$2,2,FALSE)","v":"Man"},{"$f":"HLOOKUP(Dage!CL3,Dage!$A$1:$E$2,2,FALSE)","v":"Tir"},{"$f":"HLOOKUP(Dage!CM3,Dage!$A$1:$E$2,2,FALSE)","v":"Ons"},{"$f":"HLOOKUP(Dage!CN3,Dage!$A$1:$E$2,2,FALSE)","v":"Tor"},{"$f":"HLOOKUP(Dage!CO3,Dage!$A$1:$E$2,2,FALSE)","v":"Fre"},{"$f":"HLOOKUP(Dage!CP3,Dage!$A$1:$E$2,2,FALSE)","v":"Man"},{"$f":"HLOOKUP(Dage!CQ3,Dage!$A$1:$E$2,2,FALSE)","v":"Tir"},{"$f":"HLOOKUP(Dage!CR3,Dage!$A$1:$E$2,2,FALSE)","v":"Ons"},{"$f":"HLOOKUP(Dage!CS3,Dage!$A$1:$E$2,2,FALSE)","v":"Tor"},{"$f":"HLOOKUP(Dage!CT3,Dage!$A$1:$E$2,2,FALSE)","v":"Fre"},{"$f":"HLOOKUP(Dage!CU3,Dage!$A$1:$E$2,2,FALSE)","v":"Man"},null,{"$f":"HLOOKUP(Dage!CW3,Dage!$A$1:$E$2,2,FALSE)","v":"Tir"},{"$f":"HLOOKUP(Dage!CX3,Dage!$A$1:$E$2,2,FALSE)","v":"Ons"},{"$f":"HLOOKUP(Dage!CY3,Dage!$A$1:$E$2,2,FALSE)","v":"Tor"},{"$f":"HLOOKUP(Dage!CZ3,Dage!$A$1:$E$2,2,FALSE)","v":"Fre"},{"$f":"HLOOKUP(Dage!DA3,Dage!$A$1:$E$2,2,FALSE)","v":"Man"},{"$f":"HLOOKUP(Dage!DB3,Dage!$A$1:$E$2,2,FALSE)","v":"Tir"},{"$f":"HLOOKUP(Dage!DC3,Dage!$A$1:$E$2,2,FALSE)","v":"Ons"},{"$f":"HLOOKUP(Dage!DD3,Dage!$A$1:$E$2,2,FALSE)","v":"Tor"},{"$f":"HLOOKUP(Dage!DE3,Dage!$A$1:$E$2,2,FALSE)","v":"Fre"},{"$f":"HLOOKUP(Dage!DF3,Dage!$A$1:$E$2,2,FALSE)","v":"Man"},{"$f":"HLOOKUP(Dage!DG3,Dage!$A$1:$E$2,2,FALSE)","v":"Tir"},{"$f":"HLOOKUP(Dage!DH3,Dage!$A$1:$E$2,2,FALSE)","v":"Ons"},{"$f":"HLOOKUP(Dage!DI3,Dage!$A$1:$E$2,2,FALSE)","v":"Tor"},{"$f":"HLOOKUP(Dage!DJ3,Dage!$A$1:$E$2,2,FALSE)","v":"Fre"},{"$f":"HLOOKUP(Dage!DK3,Dage!$A$1:$E$2,2,FALSE)","v":"Man"},{"$f":"HLOOKUP(Dage!DL3,Dage!$A$1:$E$2,2,FALSE)","v":"Tir"},{"$f":"HLOOKUP(Dage!DM3,Dage!$A$1:$E$2,2,FALSE)","v":"Ons"},{"$f":"HLOOKUP(Dage!DN3,Dage!$A$1:$E$2,2,FALSE)","v":"Tor"},{"$f":"HLOOKUP(Dage!DO3,Dage!$A$1:$E$2,2,FALSE)","v":"Fre"},{"$f":"HLOOKUP(Dage!DP3,Dage!$A$1:$E$2,2,FALSE)","v":"Man"},{"$f":"HLOOKUP(Dage!DQ3,Dage!$A$1:$E$2,2,FALSE)","v":"Tir"},{"$f":"HLOOKUP(Dage!DR3,Dage!$A$1:$E$2,2,FALSE)","v":"Ons"},null,{"$f":"HLOOKUP(Dage!DT3,Dage!$A$1:$E$2,2,FALSE)","v":"Tor"},{"$f":"HLOOKUP(Dage!DU3,Dage!$A$1:$E$2,2,FALSE)","v":"Fre"},{"$f":"HLOOKUP(Dage!DV3,Dage!$A$1:$E$2,2,FALSE)","v":"Man"},{"$f":"HLOOKUP(Dage!DW3,Dage!$A$1:$E$2,2,FALSE)","v":"Tir"},{"$f":"HLOOKUP(Dage!DX3,Dage!$A$1:$E$2,2,FALSE)","v":"Ons"},{"$f":"HLOOKUP(Dage!DY3,Dage!$A$1:$E$2,2,FALSE)","v":"Tor"},{"$f":"HLOOKUP(Dage!DZ3,Dage!$A$1:$E$2,2,FALSE)","v":"Fre"},{"$f":"HLOOKUP(Dage!EA3,Dage!$A$1:$E$2,2,FALSE)","v":"Man"},{"$f":"HLOOKUP(Dage!EB3,Dage!$A$1:$E$2,2,FALSE)","v":"Tir"},{"$f":"HLOOKUP(Dage!EC3,Dage!$A$1:$E$2,2,FALSE)","v":"Ons"},{"$f":"HLOOKUP(Dage!ED3,Dage!$A$1:$E$2,2,FALSE)","v":"Tor"},{"$f":"HLOOKUP(Dage!EE3,Dage!$A$1:$E$2,2,FALSE)","v":"Fre"},{"$f":"HLOOKUP(Dage!EF3,Dage!$A$1:$E$2,2,FALSE)","v":"Man"},{"$f":"HLOOKUP(Dage!EG3,Dage!$A$1:$E$2,2,FALSE)","v":"Tir"},{"$f":"HLOOKUP(Dage!EH3,Dage!$A$1:$E$2,2,FALSE)","v":"Ons"},{"$f":"HLOOKUP(Dage!EI3,Dage!$A$1:$E$2,2,FALSE)","v":"Tor"},{"$f":"HLOOKUP(Dage!EJ3,Dage!$A$1:$E$2,2,FALSE)","v":"Fre"},{"$f":"HLOOKUP(Dage!EK3,Dage!$A$1:$E$2,2,FALSE)","v":"Man"},{"$f":"HLOOKUP(Dage!EL3,Dage!$A$1:$E$2,2,FALSE)","v":"Tir"},{"$f":"HLOOKUP(Dage!EM3,Dage!$A$1:$E$2,2,FALSE)","v":"Ons"},{"$f":"HLOOKUP(Dage!EN3,Dage!$A$1:$E$2,2,FALSE)","v":"Tor"},{"$f":"HLOOKUP(Dage!EO3,Dage!$A$1:$E$2,2,FALSE)","v":"Fre"},null,{"$f":"HLOOKUP(Dage!EP3,Dage!$A$1:$E$2,2,FALSE)","v":"Man"},{"$f":"HLOOKUP(Dage!ER3,Dage!$A$1:$E$2,2,FALSE)","v":"Tir"},{"$f":"HLOOKUP(Dage!ES3,Dage!$A$1:$E$2,2,FALSE)","v":"Ons"},{"$f":"HLOOKUP(Dage!ET3,Dage!$A$1:$E$2,2,FALSE)","v":"Tor"},{"$f":"HLOOKUP(Dage!EU3,Dage!$A$1:$E$2,2,FALSE)","v":"Fre"},{"$f":"HLOOKUP(Dage!EV3,Dage!$A$1:$E$2,2,FALSE)","v":"Man"},{"$f":"HLOOKUP(Dage!EW3,Dage!$A$1:$E$2,2,FALSE)","v":"Tir"},{"$f":"HLOOKUP(Dage!EX3,Dage!$A$1:$E$2,2,FALSE)","v":"Ons"},{"$f":"HLOOKUP(Dage!EY3,Dage!$A$1:$E$2,2,FALSE)","v":"Tor"},{"$f":"HLOOKUP(Dage!EZ3,Dage!$A$1:$E$2,2,FALSE)","v":"Fre"},{"$f":"HLOOKUP(Dage!FA3,Dage!$A$1:$E$2,2,FALSE)","v":"Man"},{"$f":"HLOOKUP(Dage!FB3,Dage!$A$1:$E$2,2,FALSE)","v":"Tir"},{"$f":"HLOOKUP(Dage!FC3,Dage!$A$1:$E$2,2,FALSE)","v":"Ons"},{"$f":"HLOOKUP(Dage!FD3,Dage!$A$1:$E$2,2,FALSE)","v":"Tor"},{"$f":"HLOOKUP(Dage!FE3,Dage!$A$1:$E$2,2,FALSE)","v":"Fre"},{"$f":"HLOOKUP(Dage!FF3,Dage!$A$1:$E$2,2,FALSE)","v":"Man"},{"$f":"HLOOKUP(Dage!FG3,Dage!$A$1:$E$2,2,FALSE)","v":"Tir"},{"$f":"HLOOKUP(Dage!FH3,Dage!$A$1:$E$2,2,FALSE)","v":"Ons"},{"$f":"HLOOKUP(Dage!FI3,Dage!$A$1:$E$2,2,FALSE)","v":"Tor"},{"$f":"HLOOKUP(Dage!FJ3,Dage!$A$1:$E$2,2,FALSE)","v":"Fre"},{"$f":"HLOOKUP(Dage!FK3,Dage!$A$1:$E$2,2,FALSE)","v":"Man"},null,{"$f":"HLOOKUP(Dage!FM3,Dage!$A$1:$E$2,2,FALSE)","v":"Tir"},{"$f":"HLOOKUP(Dage!FN3,Dage!$A$1:$E$2,2,FALSE)","v":"Ons"},{"$f":"HLOOKUP(Dage!FO3,Dage!$A$1:$E$2,2,FALSE)","v":"Tor"},{"$f":"HLOOKUP(Dage!FP3,Dage!$A$1:$E$2,2,FALSE)","v":"Fre"},{"$f":"HLOOKUP(Dage!FQ3,Dage!$A$1:$E$2,2,FALSE)","v":"Man"},{"$f":"HLOOKUP(Dage!FR3,Dage!$A$1:$E$2,2,FALSE)","v":"Tir"},{"$f":"HLOOKUP(Dage!FS3,Dage!$A$1:$E$2,2,FALSE)","v":"Ons"},{"$f":"HLOOKUP(Dage!FT3,Dage!$A$1:$E$2,2,FALSE)","v":"Tor"},{"$f":"HLOOKUP(Dage!FU3,Dage!$A$1:$E$2,2,FALSE)","v":"Fre"},{"$f":"HLOOKUP(Dage!FV3,Dage!$A$1:$E$2,2,FALSE)","v":"Man"},{"$f":"HLOOKUP(Dage!FW3,Dage!$A$1:$E$2,2,FALSE)","v":"Tir"},{"$f":"HLOOKUP(Dage!FX3,Dage!$A$1:$E$2,2,FALSE)","v":"Ons"},{"$f":"HLOOKUP(Dage!FY3,Dage!$A$1:$E$2,2,FALSE)","v":"Tor"},{"$f":"HLOOKUP(Dage!FZ3,Dage!$A$1:$E$2,2,FALSE)","v":"Fre"},{"$f":"HLOOKUP(Dage!GA3,Dage!$A$1:$E$2,2,FALSE)","v":"Man"},{"$f":"HLOOKUP(Dage!GB3,Dage!$A$1:$E$2,2,FALSE)","v":"Tir"},{"$f":"HLOOKUP(Dage!GC3,Dage!$A$1:$E$2,2,FALSE)","v":"Ons"},{"$f":"HLOOKUP(Dage!GD3,Dage!$A$1:$E$2,2,FALSE)","v":"Tor"},{"$f":"HLOOKUP(Dage!GE3,Dage!$A$1:$E$2,2,FALSE)","v":"Fre"},{"$f":"HLOOKUP(Dage!GF3,Dage!$A$1:$E$2,2,FALSE)","v":"Man"},{"$f":"HLOOKUP(Dage!GG3,Dage!$A$1:$E$2,2,FALSE)","v":"Tir"},{"$f":"HLOOKUP(Dage!GH3,Dage!$A$1:$E$2,2,FALSE)","v":"Ons"},{"$f":"HLOOKUP(Dage!GI3,Dage!$A$1:$E$2,2,FALSE)","v":"Tor"},null,{"$f":"HLOOKUP(Dage!GK3,Dage!$A$1:$E$2,2,FALSE)","v":"Fre"},{"$f":"HLOOKUP(Dage!GL3,Dage!$A$1:$E$2,2,FALSE)","v":"Man"},{"$f":"HLOOKUP(Dage!GM3,Dage!$A$1:$E$2,2,FALSE)","v":"Tir"},{"$f":"HLOOKUP(Dage!GN3,Dage!$A$1:$E$2,2,FALSE)","v":"Ons"},{"$f":"HLOOKUP(Dage!GO3,Dage!$A$1:$E$2,2,FALSE)","v":"Tor"},{"$f":"HLOOKUP(Dage!GP3,Dage!$A$1:$E$2,2,FALSE)","v":"Fre"},{"$f":"HLOOKUP(Dage!GQ3,Dage!$A$1:$E$2,2,FALSE)","v":"Man"},{"$f":"HLOOKUP(Dage!GR3,Dage!$A$1:$E$2,2,FALSE)","v":"Tir"},{"$f":"HLOOKUP(Dage!GS3,Dage!$A$1:$E$2,2,FALSE)","v":"Ons"},{"$f":"HLOOKUP(Dage!GT3,Dage!$A$1:$E$2,2,FALSE)","v":"Tor"},{"$f":"HLOOKUP(Dage!GU3,Dage!$A$1:$E$2,2,FALSE)","v":"Fre"},{"$f":"HLOOKUP(Dage!GV3,Dage!$A$1:$E$2,2,FALSE)","v":"Man"},{"$f":"HLOOKUP(Dage!GW3,Dage!$A$1:$E$2,2,FALSE)","v":"Tir"},{"$f":"HLOOKUP(Dage!GX3,Dage!$A$1:$E$2,2,FALSE)","v":"Ons"},{"$f":"HLOOKUP(Dage!GY3,Dage!$A$1:$E$2,2,FALSE)","v":"Tor"},{"$f":"HLOOKUP(Dage!GZ3,Dage!$A$1:$E$2,2,FALSE)","v":"Fre"},{"$f":"HLOOKUP(Dage!HA3,Dage!$A$1:$E$2,2,FALSE)","v":"Man"},{"$f":"HLOOKUP(Dage!HB3,Dage!$A$1:$E$2,2,FALSE)","v":"Tir"},{"$f":"HLOOKUP(Dage!HC3,Dage!$A$1:$E$2,2,FALSE)","v":"Ons"},{"$f":"HLOOKUP(Dage!HD3,Dage!$A$1:$E$2,2,FALSE)","v":"Tor"},{"$f":"HLOOKUP(Dage!HE3,Dage!$A$1:$E$2,2,FALSE)","v":"Fre"},null,{"$f":"HLOOKUP(Dage!HF3,Dage!$A$1:$E$2,2,FALSE)","v":"Man"},{"$f":"HLOOKUP(Dage!HH3,Dage!$A$1:$E$2,2,FALSE)","v":"Tir"},{"$f":"HLOOKUP(Dage!HI3,Dage!$A$1:$E$2,2,FALSE)","v":"Ons"},{"$f":"HLOOKUP(Dage!HJ3,Dage!$A$1:$E$2,2,FALSE)","v":"Tor"},{"$f":"HLOOKUP(Dage!HK3,Dage!$A$1:$E$2,2,FALSE)","v":"Fre"},{"$f":"HLOOKUP(Dage!HL3,Dage!$A$1:$E$2,2,FALSE)","v":"Man"},{"$f":"HLOOKUP(Dage!HM3,Dage!$A$1:$E$2,2,FALSE)","v":"Tir"},{"$f":"HLOOKUP(Dage!HN3,Dage!$A$1:$E$2,2,FALSE)","v":"Ons"},{"$f":"HLOOKUP(Dage!HO3,Dage!$A$1:$E$2,2,FALSE)","v":"Tor"},{"$f":"HLOOKUP(Dage!HP3,Dage!$A$1:$E$2,2,FALSE)","v":"Fre"},{"$f":"HLOOKUP(Dage!HQ3,Dage!$A$1:$E$2,2,FALSE)","v":"Man"},{"$f":"HLOOKUP(Dage!HR3,Dage!$A$1:$E$2,2,FALSE)","v":"Tir"},{"$f":"HLOOKUP(Dage!HS3,Dage!$A$1:$E$2,2,FALSE)","v":"Ons"},{"$f":"HLOOKUP(Dage!HT3,Dage!$A$1:$E$2,2,FALSE)","v":"Tor"},{"$f":"HLOOKUP(Dage!HU3,Dage!$A$1:$E$2,2,FALSE)","v":"Fre"},{"$f":"HLOOKUP(Dage!HV3,Dage!$A$1:$E$2,2,FALSE)","v":"Man"},{"$f":"HLOOKUP(Dage!HW3,Dage!$A$1:$E$2,2,FALSE)","v":"Tir"},{"$f":"HLOOKUP(Dage!HX3,Dage!$A$1:$E$2,2,FALSE)","v":"Ons"},{"$f":"HLOOKUP(Dage!HY3,Dage!$A$1:$E$2,2,FALSE)","v":"Tor"},{"$f":"HLOOKUP(Dage!HZ3,Dage!$A$1:$E$2,2,FALSE)","v":"Fre"},null,{"$f":"HLOOKUP(Dage!IA3,Dage!$A$1:$E$2,2,FALSE)","v":"Man"},{"$f":"HLOOKUP(Dage!IC3,Dage!$A$1:$E$2,2,FALSE)","v":"Tir"},{"$f":"HLOOKUP(Dage!ID3,Dage!$A$1:$E$2,2,FALSE)","v":"Ons"},{"$f":"HLOOKUP(Dage!IE3,Dage!$A$1:$E$2,2,FALSE)","v":"Tor"},{"$f":"HLOOKUP(Dage!IF3,Dage!$A$1:$E$2,2,FALSE)","v":"Fre"},{"$f":"HLOOKUP(Dage!IG3,Dage!$A$1:$E$2,2,FALSE)","v":"Man"},{"$f":"HLOOKUP(Dage!IH3,Dage!$A$1:$E$2,2,FALSE)","v":"Tir"},{"$f":"HLOOKUP(Dage!II3,Dage!$A$1:$E$2,2,FALSE)","v":"Ons"},{"$f":"HLOOKUP(Dage!IJ3,Dage!$A$1:$E$2,2,FALSE)","v":"Tor"},{"$f":"HLOOKUP(Dage!IK3,Dage!$A$1:$E$2,2,FALSE)","v":"Fre"},{"$f":"HLOOKUP(Dage!IL3,Dage!$A$1:$E$2,2,FALSE)","v":"Man"},{"$f":"HLOOKUP(Dage!IM3,Dage!$A$1:$E$2,2,FALSE)","v":"Tir"},{"$f":"HLOOKUP(Dage!IN3,Dage!$A$1:$E$2,2,FALSE)","v":"Ons"},{"$f":"HLOOKUP(Dage!IO3,Dage!$A$1:$E$2,2,FALSE)","v":"Tor"},{"$f":"HLOOKUP(Dage!IP3,Dage!$A$1:$E$2,2,FALSE)","v":"Fre"},{"$f":"HLOOKUP(Dage!IQ3,Dage!$A$1:$E$2,2,FALSE)","v":"Man"},{"$f":"HLOOKUP(Dage!IR3,Dage!$A$1:$E$2,2,FALSE)","v":"Tir"},{"$f":"HLOOKUP(Dage!IS3,Dage!$A$1:$E$2,2,FALSE)","v":"Ons"},{"$f":"HLOOKUP(Dage!IT3,Dage!$A$1:$E$2,2,FALSE)","v":"Tor"},{"$f":"HLOOKUP(Dage!IU3,Dage!$A$1:$E$2,2,FALSE)","v":"Fre"},{"$f":"HLOOKUP(Dage!IV3,Dage!$A$1:$E$2,2,FALSE)","v":"Man"},{"$f":"HLOOKUP(Dage!IW3,Dage!$A$1:$E$2,2,FALSE)","v":"Tir"},{"$f":"HLOOKUP(Dage!IX3,Dage!$A$1:$E$2,2,FALSE)","v":"Ons"},null,{"$f":"HLOOKUP(Dage!IZ3,Dage!$A$1:$E$2,2,FALSE)","v":"Tor"},{"$f":"HLOOKUP(Dage!JA3,Dage!$A$1:$E$2,2,FALSE)","v":"Fre"},{"$f":"HLOOKUP(Dage!JB3,Dage!$A$1:$E$2,2,FALSE)","v":"Man"},{"$f":"HLOOKUP(Dage!JC3,Dage!$A$1:$E$2,2,FALSE)","v":"Tir"},{"$f":"HLOOKUP(Dage!JD3,Dage!$A$1:$E$2,2,FALSE)","v":"Ons"},{"$f":"HLOOKUP(Dage!JE3,Dage!$A$1:$E$2,2,FALSE)","v":"Tor"},{"$f":"HLOOKUP(Dage!JF3,Dage!$A$1:$E$2,2,FALSE)","v":"Fre"},{"$f":"HLOOKUP(Dage!JG3,Dage!$A$1:$E$2,2,FALSE)","v":"Man"},{"$f":"HLOOKUP(Dage!JH3,Dage!$A$1:$E$2,2,FALSE)","v":"Tir"},{"$f":"HLOOKUP(Dage!JI3,Dage!$A$1:$E$2,2,FALSE)","v":"Ons"},{"$f":"HLOOKUP(Dage!JJ3,Dage!$A$1:$E$2,2,FALSE)","v":"Tor"},{"$f":"HLOOKUP(Dage!JK3,Dage!$A$1:$E$2,2,FALSE)","v":"Fre"},{"$f":"HLOOKUP(Dage!JL3,Dage!$A$1:$E$2,2,FALSE)","v":"Man"},{"$f":"HLOOKUP(Dage!JM3,Dage!$A$1:$E$2,2,FALSE)","v":"Tir"},{"$f":"HLOOKUP(Dage!JN3,Dage!$A$1:$E$2,2,FALSE)","v":"Ons"},{"$f":"HLOOKUP(Dage!JO3,Dage!$A$1:$E$2,2,FALSE)","v":"Tor"},{"$f":"HLOOKUP(Dage!JP3,Dage!$A$1:$E$2,2,FALSE)","v":"Fre"},{"$f":"HLOOKUP(Dage!JQ3,Dage!$A$1:$E$2,2,FALSE)","v":"Man"},{"$f":"HLOOKUP(Dage!JR3,Dage!$A$1:$E$2,2,FALSE)","v":"Tir"},{"$f":"HLOOKUP(Dage!JS3,Dage!$A$1:$E$2,2,FALSE)","v":"Ons"},{"$f":"HLOOKUP(Dage!JT3,Dage!$A$1:$E$2,2,FALSE)","v":"Tor"},{"$f":"HLOOKUP(Dage!JU3,Dage!$A$1:$E$2,2,FALSE)","v":"Fre"}]
["Navn","CPR",null,null,null,null,null,null,"2009-05-01",{"$f":"WORKDAY(B1,1)","v":"2009-05-01"},{"$f":"WORKDAY(J2,1)","v":"2009-05-04"},{"$f":"WORKDAY(K2,1)","v":"2009-05-05"},{"$f":"WORKDAY(L2,1)","v":"2009-05-06"},"2009-05-07","2009-05-08","2009-05-11","2009-05-12","2009-05-13","2009-05-14","2009-05-15","2009-05-18","2009-05-19","2009-05-20","2009-05-21",{"$f":"WORKDAY(X2,1)","v":"2009-05-22"},"2009-05-25","2009-05-26","2009-05-27","2009-05-28","2009-05-29","2009-06-01",{"$f":"WORKDAY(AD2,1)","v":"2009-06-01"},{"$f":"WORKDAY(AF2,1)","v":"2009-06-02"},{"$f":"WORKDAY(AG2,1)","v":"2009-06-03"},{"$f":"WORKDAY(AH2,1)","v":"2009-06-04"},"2009-06-05","2009-06-08","2009-06-09","2009-06-10","2009-06-11","2009-06-12","2009-06-15","2009-06-16","2009-06-17","2009-06-18","2009-06-19","2009-06-22","2009-06-23","2009-06-24","2009-06-25","2009-06-26","2009-06-29","2009-06-30","2009-07-01",{"$f":"WORKDAY(BA2,1)","v":"2009-07-01"},{"$f":"WORKDAY(BC2,1)","v":"2009-07-02"},"2009-07-03","2009-07-06","2009-07-07","2009-07-08","2009-07-09","2009-07-10","2009-07-13",{"$f":"WORKDAY(BK2,1)","v":"2009-07-14"},"2009-07-15","2009-07-16","2009-07-17","2009-07-20","2009-07-21","2009-07-22","2009-07-23","2009-07-24","2009-07-27","2009-07-28","2009-07-29","2009-07-30","2009-07-31","2009-08-01",{"$f":"WORKDAY(BY2,1)","v":"2009-08-03"},"2009-08-04","2009-08-05","2009-08-06","2009-08-07","2009-08-10","2009-08-11","2009-08-12","2009-08-13","2009-08-14","2009-08-17","2009-08-18","2009-08-19","2009-08-20","2009-08-21","2009-08-24","2009-08-25","2009-08-26","2009-08-27","2009-08-28","2009-08-31","2009-09-01",{"$f":"WORKDAY(CU2,1)","v":"2009-09-01"},"2009-09-02","2009-09-03","2009-09-04","2009-09-07","2009-09-08","2009-09-09","2009-09-10","2009-09-11","2009-09-14","2009-09-15","2009-09-16","2009-09-17","2009-09-18","2009-09-21","2009-09-22","2009-09-23","2009-09-24","2009-09-25","2009-09-28","2009-09-29","2009-09-30","2009-10-01",{"$f":"WORKDAY(DR2,1)","v":"2009-10-01"},"2009-10-02","2009-10-05","2009-10-06","2009-10-07","2009-10-08","2009-10-09",{"$f":"WORKDAY(DZ2,1)","v":"2009-10-12"},"2009-10-13","2009-10-14","2009-10-15","2009-10-16","2009-10-19","2009-10-20","2009-10-21","2009-10-22","2009-10-23","2009-10-26","2009-10-27","2009-10-28","2009-10-29","2009-10-30","2009-11-01",{"$f":"WORKDAY(EO2,1)","v":"2009-11-02"},{"$f":"WORKDAY(EQ2,1)","v":"2009-11-03"},"2009-11-04","2009-11-05","2009-11-06","2009-11-09","2009-11-10","2009-11-11","2009-11-12","2009-11-13","2009-11-16","2009-11-17","2009-11-18","2009-11-19","2009-11-20","2009-11-23","2009-11-24","2009-11-25","2009-11-26","2009-11-27","2009-11-30","2010-12-01",{"$f":"WORKDAY(FK2,1)","v":"2009-12-01"},"2009-12-02","2009-12-03","2009-12-04","2009-12-07","2009-12-08","2009-12-09","2009-12-10","2009-12-11","2009-12-14",{"$f":"WORKDAY(FV2,1)","v":"2009-12-15"},{"$f":"WORKDAY(FW2,1)","v":"2009-12-16"},{"$f":"WORKDAY(FX2,1)","v":"2009-12-17"},{"$f":"WORKDAY(FY2,1)","v":"2009-12-18"},{"$f":"WORKDAY(FZ2,1)","v":"2009-12-21"},{"$f":"WORKDAY(GA2,1)","v":"2009-12-22"},{"$f":"WORKDAY(GB2,1)","v":"2009-12-23"},{"$f":"WORKDAY(GC2,1)","v":"2009-12-24"},{"$f":"WORKDAY(GD2,1)","v":"2009-12-25"},{"$f":"WORKDAY(GE2,1)","v":"2009-12-28"},{"$f":"WORKDAY(GF2,1)","v":"2009-12-29"},{"$f":"WORKDAY(GG2,1)","v":"2009-12-30"},{"$f":"WORKDAY(GH2,1)","v":"2009-12-31"},"2010-01-01",{"$f":"WORKDAY(GI2,1)","v":"2010-01-01"},{"$f":"WORKDAY(GK2,1)","v":"2010-01-04"},{"$f":"WORKDAY(GL2,1)","v":"2010-01-05"},{"$f":"WORKDAY(GM2,1)","v":"2010-01-06"},{"$f":"WORKDAY(GN2,1)","v":"2010-01-07"},{"$f":"WORKDAY(GO2,1)","v":"2010-01-08"},{"$f":"WORKDAY(GP2,1)","v":"2010-01-11"},{"$f":"WORKDAY(GQ2,1)","v":"2010-01-12"},{"$f":"WORKDAY(GR2,1)","v":"2010-01-13"},{"$f":"WORKDAY(GS2,1)","v":"2010-01-14"},{"$f":"WORKDAY(GT2,1)","v":"2010-01-15"},{"$f":"WORKDAY(GU2,1)","v":"2010-01-18"},{"$f":"WORKDAY(GV2,1)","v":"2010-01-19"},{"$f":"WORKDAY(GW2,1)","v":"2010-01-20"},{"$f":"WORKDAY(GX2,1)","v":"2010-01-21"},{"$f":"WORKDAY(GY2,1)","v":"2010-01-22"},{"$f":"WORKDAY(GZ2,1)","v":"2010-01-25"},{"$f":"WORKDAY(HA2,1)","v":"2010-01-26"},{"$f":"WORKDAY(HB2,1)","v":"2010-01-27"},{"$f":"WORKDAY(HC2,1)","v":"2010-01-28"},{"$f":"WORKDAY(HD2,1)","v":"2010-01-29"},"2010-02-01",{"$f":"WORKDAY(HE2,1)","v":"2010-02-01"},{"$f":"WORKDAY(HG2,1)","v":"2010-02-02"},{"$f":"WORKDAY(HH2,1)","v":"2010-02-03"},{"$f":"WORKDAY(HI2,1)","v":"2010-02-04"},{"$f":"WORKDAY(HJ2,1)","v":"2010-02-05"},{"$f":"WORKDAY(HK2,1)","v":"2010-02-08"},{"$f":"WORKDAY(HL2,1)","v":"2010-02-09"},{"$f":"WORKDAY(HM2,1)","v":"2010-02-10"},{"$f":"WORKDAY(HN2,1)","v":"2010-02-11"},{"$f":"WORKDAY(HO2,1)","v":"2010-02-12"},{"$f":"WORKDAY(HP2,1)","v":"2010-02-15"},{"$f":"WORKDAY(HQ2,1)","v":"2010-02-16"},{"$f":"WORKDAY(HR2,1)","v":"2010-02-17"},{"$f":"WORKDAY(HS2,1)","v":"2010-02-18"},{"$f":"WORKDAY(HT2,1)","v":"2010-02-19"},{"$f":"WORKDAY(HU2,1)","v":"2010-02-22"},{"$f":"WORKDAY(HV2,1)","v":"2010-02-23"},{"$f":"WORKDAY(HW2,1)","v":"2010-02-24"},{"$f":"WORKDAY(HX2,1)","v":"2010-02-25"},{"$f":"WORKDAY(HY2,1)","v":"2010-02-26"},"2010-03-01",{"$f":"WORKDAY(HZ2,1)","v":"2010-03-01"},{"$f":"WORKDAY(IB2,1)","v":"2010-03-02"},{"$f":"WORKDAY(IC2,1)","v":"2010-03-03"},{"$f":"WORKDAY(ID2,1)","v":"2010-03-04"},{"$f":"WORKDAY(IE2,1)","v":"2010-03-05"},{"$f":"WORKDAY(IF2,1)","v":"2010-03-08"},{"$f":"WORKDAY(IG2,1)","v":"2010-03-09"},{"$f":"WORKDAY(IH2,1)","v":"2010-03-10"},{"$f":"WORKDAY(II2,1)","v":"2010-03-11"},{"$f":"WORKDAY(IJ2,1)","v":"2010-03-12"},{"$f":"WORKDAY(IK2,1)","v":"2010-03-15"},{"$f":"WORKDAY(IL2,1)","v":"2010-03-16"},{"$f":"WORKDAY(IM2,1)","v":"2010-03-17"},{"$f":"WORKDAY(IN2,1)","v":"2010-03-18"},{"$f":"WORKDAY(IO2,1)","v":"2010-03-19"},{"$f":"WORKDAY(IP2,1)","v":"2010-03-22"},{"$f":"WORKDAY(IQ2,1)","v":"2010-03-23"},{"$f":"WORKDAY(IR2,1)","v":"2010-03-24"},{"$f":"WORKDAY(IS2,1)","v":"2010-03-25"},{"$f":"WORKDAY(IT2,1)","v":"2010-03-26"},{"$f":"WORKDAY(IU2,1)","v":"2010-03-29"},{"$f":"WORKDAY(IV2,1)","v":"2010-03-30"},{"$f":"WORKDAY(IW2,1)","v":"2010-03-31"},"2010-04-01",{"$f":"WORKDAY(IX2,1)","v":"2010-04-01"},{"$f":"WORKDAY(IZ2,1)","v":"2010-04-02"},{"$f":"WORKDAY(JA2,1)","v":"2010-04-05"},{"$f":"WORKDAY(JB2,1)","v":"2010-04-06"},{"$f":"WORKDAY(JC2,1)","v":"2010-04-07"},{"$f":"WORKDAY(JD2,1)","v":"2010-04-08"},{"$f":"WORKDAY(JE2,1)","v":"2010-04-09"},{"$f":"WORKDAY(JF2,1)","v":"2010-04-12"},{"$f":"WORKDAY(JG2,1)","v":"2010-04-13"},{"$f":"WORKDAY(JH2,1)","v":"2010-04-14"},{"$f":"WORKDAY(JI2,1)","v":"2010-04-15"},{"$f":"WORKDAY(JJ2,1)","v":"2010-04-16"},{"$f":"WORKDAY(JK2,1)","v":"2010-04-19"},{"$f":"WORKDAY(JL2,1)","v":"2010-04-20"},{"$f":"WORKDAY(JM2,1)","v":"2010-04-21"},{"$f":"WORKDAY(JN2,1)","v":"2010-04-22"},{"$f":"WORKDAY(JO2,1)","v":"2010-04-23"},{"$f":"WORKDAY(JP2,1)","v":"2010-04-26"},{"$f":"WORKDAY(JQ2,1)","v":"2010-04-27"},{"$f":"WORKDAY(JR2,1)","v":"2010-04-28"},{"$f":"WORKDAY(JS2,1)","v":"2010-04-29"},{"$f":"WORKDAY(JT2,1)","v":"2010-04-30"}]
["Henriette Andersen","020164-0834",null,{"$f":"(COUNTIF(J3:IY3,\"a\"))","v":0},{"$f":"(COUNTIF(J3:IY3,\"f\"))","v":0},{"$f":"25-$E3","v":25},{"$f":"(COUNTIF(J3:IY3,\"f6\"))","v":0},{"$f":"5-$G3","v":5}]
["Birgitte Boelt","140574-0322",null,0,0,25,0,5]
["Birte Bernt","190960-0268",null,0,0,25,0,5]
["Carsten Baagø","080563-0929",null,0,0,25,0,5]
["Charlotte Christensen","180753-0684",null,0,0,25,0,5]
["Else Hansen","251061-0918",null,0,0,25,0,5]
["Ena Hansen","070874-1166",null,0,0,25,0,5]
["Erik Jensen","260757-1811",null,0,0,25,0,5]
["Henrik Jensen","090465-1309",null,0,0,25,0,5]
["Tanja Juul","210777-1547",null,0,0,25,0,5]
["Grethe Leonhard","311255-1836",null,0,0,25,0,5]
["Hanne Lorentzen","210763-0252",null,0,0,25,0,5]
["Allan Alminde","110978-0669",null,0,0,25,0,5]
["Helge Lyhne","060152-1833",null,0,0,25,0,5]
["Karina Mikkelsen","260974-0288",null,0,0,25,0,5]
["Bent Olesen","080949-1631",null,0,0,25,0,5]
["Lisbeth Olsen","270764-1654",null,0,0,25,0,5]
["Maria Pedersen","110561-0814",null,0,0,25,0,5]
["Mette Pharsen","051167-0190",null,0,0,25,0,5]
["Mette Rasmussen","080572-0052",null,0,0,25,0,5]
["Mona Rohrberg","150978-1724",null,0,0,25,0,5]
["Niels Schmidt","110563-0813",null,0,0,25,0,5]
["Niels Skaarup","211067-1145",null,0,0,25,0,5]
["Signe Stange","150564-0318",null,0,0,25,0,5]
["Simon Svarre","150862-1363",null,0,0,25,0,5]
["Steen Uldall","270567-1271",null,0,0,25,0,5]
[null,null,null,0,0,25,0,5]
[null,null,null,0,0,25,0,5]
[null,null,null,0,0,25,0,5]
[null,null,null,{"$f":"(COUNTIF(J32:IY32,\"a\"))","v":0},{"$f":"(COUNTIF(J32:IY32,\"f\"))","v":0},{"$f":"25-$E32","v":25},{"$f":"(COUNTIF(J32:IY32,\"f6\"))","v":0},{"$f":"5-$G32","v":5}]
[null,null,null,0,0,25,0,5]
[null,null,null,0,0,25,0,5]
[null,null,null,0,0,25,0,5]
[null,null,null,0,0,25,0,5]
[null,null,null,0,0,25,0,5]
[null,null,null,0,0,25,0,5]
[null,null,null,0,0,25,0,5]
[null,null,null,0,0,25,0,5]
[null,null,null,0,0,25,0,5]
[null,null,null,0,0,25,0,5]
[null,null,null,0,0,25,0,5]
[null,null,null,0,0,25,0,5]
[null,null,null,0,0,25,0,5]
[null,null,null,0,0,25,0,5]
[null,null,null,0,0,25,0,5]
[null,null,null,0,0,25,0,5]
[null,null,null,0,0,25,0,5]
[null,null,null,0,0,25,0,5]
[null,null,null,0,0,25,0,5]
[null,null,null,0,0,25,0,5]
[null,null,null,0,0,25,0,5]
[null,null,null,0,0,25,0,5]
[null,null,null,0,0,25,0,5]

{"sheet":"Dage","index":1,"n_rows":3,"n_cols":281,"rows_kept":3,"cut":false,"hidden":false,"merged":[]}
[1,2,3,4,5]
["Man","Tir","Ons","Tor","Fre"]
[null,null,null,null,null,null,null,null,null,{"$f":"WEEKDAY(Ansatte!J2,2)","v":5},{"$f":"WEEKDAY(Ansatte!K2,2)","v":1},{"$f":"WEEKDAY(Ansatte!L2,2)","v":2},{"$f":"WEEKDAY(Ansatte!M2,2)","v":3},{"$f":"WEEKDAY(Ansatte!N2,2)","v":4},{"$f":"WEEKDAY(Ansatte!O2,2)","v":5},{"$f":"WEEKDAY(Ansatte!P2,2)","v":1},{"$f":"WEEKDAY(Ansatte!Q2,2)","v":2},{"$f":"WEEKDAY(Ansatte!R2,2)","v":3},{"$f":"WEEKDAY(Ansatte!S2,2)","v":4},{"$f":"WEEKDAY(Ansatte!T2,2)","v":5},{"$f":"WEEKDAY(Ansatte!U2,2)","v":1},{"$f":"WEEKDAY(Ansatte!V2,2)","v":2},{"$f":"WEEKDAY(Ansatte!W2,2)","v":3},{"$f":"WEEKDAY(Ansatte!X2,2)","v":4},{"$f":"WEEKDAY(Ansatte!Y2,2)","v":5},{"$f":"WEEKDAY(Ansatte!Z2,2)","v":1},{"$f":"WEEKDAY(Ansatte!AA2,2)","v":2},{"$f":"WEEKDAY(Ansatte!AB2,2)","v":3},{"$f":"WEEKDAY(Ansatte!AC2,2)","v":4},{"$f":"WEEKDAY(Ansatte!AD2,2)","v":5},{"$f":"WEEKDAY(Ansatte!AF2,2)","v":1},{"$f":"WEEKDAY(Ansatte!AE2,2)","v":1},{"$f":"WEEKDAY(Ansatte!AG2,2)","v":2},{"$f":"WEEKDAY(Ansatte!AH2,2)","v":3},{"$f":"WEEKDAY(Ansatte!AI2,2)","v":4},{"$f":"WEEKDAY(Ansatte!AJ2,2)","v":5},{"$f":"WEEKDAY(Ansatte!AK2,2)","v":1},{"$f":"WEEKDAY(Ansatte!AL2,2)","v":2},{"$f":"WEEKDAY(Ansatte!AM2,2)","v":3},{"$f":"WEEKDAY(Ansatte!AN2,2)","v":4},{"$f":"WEEKDAY(Ansatte!AO2,2)","v":5},{"$f":"WEEKDAY(Ansatte!AP2,2)","v":1},{"$f":"WEEKDAY(Ansatte!AQ2,2)","v":2},{"$f":"WEEKDAY(Ansatte!AR2,2)","v":3},{"$f":"WEEKDAY(Ansatte!AS2,2)","v":4},{"$f":"WEEKDAY(Ansatte!AT2,2)","v":5},{"$f":"WEEKDAY(Ansatte!AU2,2)","v":1},{"$f":"WEEKDAY(Ansatte!AV2,2)","v":2},{"$f":"WEEKDAY(Ansatte!AW2,2)","v":3},{"$f":"WEEKDAY(Ansatte!AX2,2)","v":4},{"$f":"WEEKDAY(Ansatte!AY2,2)","v":5},{"$f":"WEEKDAY(Ansatte!AZ2,2)","v":1},{"$f":"WEEKDAY(Ansatte!BA2,2)","v":2},{"$f":"WEEKDAY(Ansatte!BB2,2)","v":3},{"$f":"WEEKDAY(Ansatte!BC2,2)","v":3},{"$f":"WEEKDAY(Ansatte!BD2,2)","v":4},{"$f":"WEEKDAY(Ansatte!BE2,2)","v":5},{"$f":"WEEKDAY(Ansatte!BF2,2)","v":1},{"$f":"WEEKDAY(Ansatte!BG2,2)","v":2},{"$f":"WEEKDAY(Ansatte!BH2,2)","v":3},{"$f":"WEEKDAY(Ansatte!BI2,2)","v":4},{"$f":"WEEKDAY(Ansatte!BJ2,2)","v":5},{"$f":"WEEKDAY(Ansatte!BK2,2)","v":1},{"$f":"WEEKDAY(Ansatte!BL2,2)","v":2},{"$f":"WEEKDAY(Ansatte!BM2,2)","v":3},{"$f":"WEEKDAY(Ansatte!BN2,2)","v":4},{"$f":"WEEKDAY(Ansatte!BO2,2)","v":5},{"$f":"WEEKDAY(Ansatte!BP2,2)","v":1},{"$f":"WEEKDAY(Ansatte!BQ2,2)","v":2},{"$f":"WEEKDAY(Ansatte!BR2,2)","v":3},{"$f":"WEEKDAY(Ansatte!BS2,2)","v":4},{"$f":"WEEKDAY(Ansatte!BT2,2)","v":5},{"$f":"WEEKDAY(Ansatte!BU2,2)","v":1},{"$f":"WEEKDAY(Ansatte!BV2,2)","v":2},{"$f":"WEEKDAY(Ansatte!BW2,2)","v":3},{"$f":"WEEKDAY(Ansatte!BX2,2)","v":4},{"$f":"WEEKDAY(Ansatte!BY2,2)","v":5},{"$f":"WEEKDAY(Ansatte!BZ2,2)","v":6},{"$f":"WEEKDAY(Ansatte!CA2,2)","v":1},{"$f":"WEEKDAY(Ansatte!CB2,2)","v":2},{"$f":"WEEKDAY(Ansatte!CC2,2)","v":3},{"$f":"WEEKDAY(Ansatte!CD2,2)","v":4},{"$f":"WEEKDAY(Ansatte!CE2,2)","v":5},{"$f":"WEEKDAY(Ansatte!CF2,2)","v":1},{"$f":"WEEKDAY(Ansatte!CG2,2)","v":2},{"$f":"WEEKDAY(Ansatte!CH2,2)","v":3},{"$f":"WEEKDAY(Ansatte!CI2,2)","v":4},{"$f":"WEEKDAY(Ansatte!CJ2,2)","v":5},{"$f":"WEEKDAY(Ansatte!CK2,2)","v":1},{"$f":"WEEKDAY(Ansatte!CL2,2)","v":2},{"$f":"WEEKDAY(Ansatte!CM2,2)","v":3},{"$f":"WEEKDAY(Ansatte!CN2,2)","v":4},{"$f":"WEEKDAY(Ansatte!CO2,2)","v":5},{"$f":"WEEKDAY(Ansatte!CP2,2)","v":1},{"$f":"WEEKDAY(Ansatte!CQ2,2)","v":2},{"$f":"WEEKDAY(Ansatte!CR2,2)","v":3},{"$f":"WEEKDAY(Ansatte!CS2,2)","v":4},{"$f":"WEEKDAY(Ansatte!CT2,2)","v":5},{"$f":"WEEKDAY(Ansatte!CU2,2)","v":1},{"$f":"WEEKDAY(Ansatte!CV2,2)","v":2},{"$f":"WEEKDAY(Ansatte!CW2,2)","v":2},{"$f":"WEEKDAY(Ansatte!CX2,2)","v":3},{"$f":"WEEKDAY(Ansatte!CY2,2)","v":4},{"$f":"WEEKDAY(Ansatte!CZ2,2)","v":5},{"$f":"WEEKDAY(Ansatte!DA2,2)","v":1},{"$f":"WEEKDAY(Ansatte!DB2,2)","v":2},{"$f":"WEEKDAY(Ansatte!DC2,2)","v":3},{"$f":"WEEKDAY(Ansatte!DD2,2)","v":4},{"$f":"WEEKDAY(Ansatte!DE2,2)","v":5},{"$f":"WEEKDAY(Ansatte!DF2,2)","v":1},{"$f":"WEEKDAY(Ansatte!DG2,2)","v":2},{"$f":"WEEKDAY(Ansatte!DH2,2)","v":3},{"$f":"WEEKDAY(Ansatte!DI2,2)","v":4},{"$f":"WEEKDAY(Ansatte!DJ2,2)","v":5},{"$f":"WEEKDAY(Ansatte!DK2,2)","v":1},{"$f":"WEEKDAY(Ansatte!DL2,2)","v":2},{"$f":"WEEKDAY(Ansatte!DM2,2)","v":3},{"$f":"WEEKDAY(Ansatte!DN2,2)","v":4},{"$f":"WEEKDAY(Ansatte!DO2,2)","v":5},{"$f":"WEEKDAY(Ansatte!DP2,2)","v":1},{"$f":"WEEKDAY(Ansatte!DQ2,2)","v":2},{"$f":"WEEKDAY(Ansatte!DR2,2)","v":3},{"$f":"WEEKDAY(Ansatte!DS2,2)","v":4},{"$f":"WEEKDAY(Ansatte!DT2,2)","v":4},{"$f":"WEEKDAY(Ansatte!DU2,2)","v":5},{"$f":"WEEKDAY(Ansatte!DV2,2)","v":1},{"$f":"WEEKDAY(Ansatte!DW2,2)","v":2},{"$f":"WEEKDAY(Ansatte!DX2,2)","v":3},{"$f":"WEEKDAY(Ansatte!DY2,2)","v":4},{"$f":"WEEKDAY(Ansatte!DZ2,2)","v":5},{"$f":"WEEKDAY(Ansatte!EA2,2)","v":1},{"$f":"WEEKDAY(Ansatte!EB2,2)","v":2},{"$f":"WEEKDAY(Ansatte!EC2,2)","v":3},{"$f":"WEEKDAY(Ansatte!ED2,2)","v":4},{"$f":"WEEKDAY(Ansatte!EE2,2)","v":5},{"$f":"WEEKDAY(Ansatte!EF2,2)","v":1},{"$f":"WEEKDAY(Ansatte!EG2,2)","v":2},{"$f":"WEEKDAY(Ansatte!EH2,2)","v":3},{"$f":"WEEKDAY(Ansatte!EI2,2)","v":4},{"$f":"WEEKDAY(Ansatte!EJ2,2)","v":5},{"$f":"WEEKDAY(Ansatte!EK2,2)","v":1},{"$f":"WEEKDAY(Ansatte!EL2,2)","v":2},{"$f":"WEEKDAY(Ansatte!EM2,2)","v":3},{"$f":"WEEKDAY(Ansatte!EN2,2)","v":4},{"$f":"WEEKDAY(Ansatte!EO2,2)","v":5},{"$f":"WEEKDAY(Ansatte!EQ2,2)","v":1},{"$f":"WEEKDAY(Ansatte!EP2,2)","v":7},{"$f":"WEEKDAY(Ansatte!ER2,2)","v":2},{"$f":"WEEKDAY(Ansatte!ES2,2)","v":3},{"$f":"WEEKDAY(Ansatte!ET2,2)","v":4},{"$f":"WEEKDAY(Ansatte!EU2,2)","v":5},{"$f":"WEEKDAY(Ansatte!EV2,2)","v":1},{"$f":"WEEKDAY(Ansatte!EW2,2)","v":2},{"$f":"WEEKDAY(Ansatte!EX2,2)","v":3},{"$f":"WEEKDAY(Ansatte!EY2,2)","v":4},{"$f":"WEEKDAY(Ansatte!EZ2,2)","v":5},{"$f":"WEEKDAY(Ansatte!FA2,2)","v":1},{"$f":"WEEKDAY(Ansatte!FB2,2)","v":2},{"$f":"WEEKDAY(Ansatte!FC2,2)","v":3},{"$f":"WEEKDAY(Ansatte!FD2,2)","v":4},{"$f":"WEEKDAY(Ansatte!FE2,2)","v":5},{"$f":"WEEKDAY(Ansatte!FF2,2)","v":1},{"$f":"WEEKDAY(Ansatte!FG2,2)","v":2},{"$f":"WEEKDAY(Ansatte!FH2,2)","v":3},{"$f":"WEEKDAY(Ansatte!FI2,2)","v":4},{"$f":"WEEKDAY(Ansatte!FJ2,2)","v":5},{"$f":"WEEKDAY(Ansatte!FK2,2)","v":1},{"$f":"WEEKDAY(Ansatte!FL2,2)","v":3},{"$f":"WEEKDAY(Ansatte!FM2,2)","v":2},{"$f":"WEEKDAY(Ansatte!FN2,2)","v":3},{"$f":"WEEKDAY(Ansatte!FO2,2)","v":4},{"$f":"WEEKDAY(Ansatte!FP2,2)","v":5},{"$f":"WEEKDAY(Ansatte!FQ2,2)","v":1},{"$f":"WEEKDAY(Ansatte!FR2,2)","v":2},{"$f":"WEEKDAY(Ansatte!FS2,2)","v":3},{"$f":"WEEKDAY(Ansatte!FT2,2)","v":4},{"$f":"WEEKDAY(Ansatte!FU2,2)","v":5},{"$f":"WEEKDAY(Ansatte!FV2,2)","v":1},{"$f":"WEEKDAY(Ansatte!FW2,2)","v":2},{"$f":"WEEKDAY(Ansatte!FX2,2)","v":3},{"$f":"WEEKDAY(Ansatte!FY2,2)","v":4},{"$f":"WEEKDAY(Ansatte!FZ2,2)","v":5},{"$f":"WEEKDAY(Ansatte!GA2,2)","v":1},{"$f":"WEEKDAY(Ansatte!GB2,2)","v":2},{"$f":"WEEKDAY(Ansatte!GC2,2)","v":3},{"$f":"WEEKDAY(Ansatte!GD2,2)","v":4},{"$f":"WEEKDAY(Ansatte!GE2,2)","v":5},{"$f":"WEEKDAY(Ansatte!GF2,2)","v":1},{"$f":"WEEKDAY(Ansatte!GG2,2)","v":2},{"$f":"WEEKDAY(Ansatte!GH2,2)","v":3},{"$f":"WEEKDAY(Ansatte!GI2,2)","v":4},{"$f":"WEEKDAY(Ansatte!GJ2,2)","v":5},{"$f":"WEEKDAY(Ansatte!GK2,2)","v":5},{"$f":"WEEKDAY(Ansatte!GL2,2)","v":1},{"$f":"WEEKDAY(Ansatte!GM2,2)","v":2},{"$f":"WEEKDAY(Ansatte!GN2,2)","v":3},{"$f":"WEEKDAY(Ansatte!GO2,2)","v":4},{"$f":"WEEKDAY(Ansatte!GP2,2)","v":5},{"$f":"WEEKDAY(Ansatte!GQ2,2)","v":1},{"$f":"WEEKDAY(Ansatte!GR2,2)","v":2},{"$f":"WEEKDAY(Ansatte!GS2,2)","v":3},{"$f":"WEEKDAY(Ansatte!GT2,2)","v":4},{"$f":"WEEKDAY(Ansatte!GU2,2)","v":5},{"$f":"WEEKDAY(Ansatte!GV2,2)","v":1},{"$f":"WEEKDAY(Ansatte!GW2,2)","v":2},{"$f":"WEEKDAY(Ansatte!GX2,2)","v":3},{"$f":"WEEKDAY(Ansatte!GY2,2)","v":4},{"$f":"WEEKDAY(Ansatte!GZ2,2)","v":5},{"$f":"WEEKDAY(Ansatte!HA2,2)","v":1},{"$f":"WEEKDAY(Ansatte!HB2,2)","v":2},{"$f":"WEEKDAY(Ansatte!HC2,2)","v":3},{"$f":"WEEKDAY(Ansatte!HD2,2)","v":4},{"$f":"WEEKDAY(Ansatte!HE2,2)","v":5},{"$f":"WEEKDAY(Ansatte!HG2,2)","v":1},{"$f":"WEEKDAY(Ansatte!HF2,2)","v":1},{"$f":"WEEKDAY(Ansatte!HH2,2)","v":2},{"$f":"WEEKDAY(Ansatte!HI2,2)","v":3},{"$f":"WEEKDAY(Ansatte!HJ2,2)","v":4},{"$f":"WEEKDAY(Ansatte!HK2,2)","v":5},{"$f":"WEEKDAY(Ansatte!HL2,2)","v":1},{"$f":"WEEKDAY(Ansatte!HM2,2)","v":2},{"$f":"WEEKDAY(Ansatte!HN2,2)","v":3},{"$f":"WEEKDAY(Ansatte!HO2,2)","v":4},{"$f":"WEEKDAY(Ansatte!HP2,2)","v":5},{"$f":"WEEKDAY(Ansatte!HQ2,2)","v":1},{"$f":"WEEKDAY(Ansatte!HR2,2)","v":2},{"$f":"WEEKDAY(Ansatte!HS2,2)","v":3},{"$f":"WEEKDAY(Ansatte!HT2,2)","v":4},{"$f":"WEEKDAY(Ansatte!HU2,2)","v":5},{"$f":"WEEKDAY(Ansatte!HV2,2)","v":1},{"$f":"WEEKDAY(Ansatte!HW2,2)","v":2},{"$f":"WEEKDAY(Ansatte!HX2,2)","v":3},{"$f":"WEEKDAY(Ansatte!HY2,2)","v":4},{"$f":"WEEKDAY(Ansatte!HZ2,2)","v":5},{"$f":"WEEKDAY(Ansatte!IB2,2)","v":1},{"$f":"WEEKDAY(Ansatte!IA2,2)","v":1},{"$f":"WEEKDAY(Ansatte!IC2,2)","v":2},{"$f":"WEEKDAY(Ansatte!ID2,2)","v":3},{"$f":"WEEKDAY(Ansatte!IE2,2)","v":4},{"$f":"WEEKDAY(Ansatte!IF2,2)","v":5},{"$f":"WEEKDAY(Ansatte!IG2,2)","v":1},{"$f":"WEEKDAY(Ansatte!IH2,2)","v":2},{"$f":"WEEKDAY(Ansatte!II2,2)","v":3},{"$f":"WEEKDAY(Ansatte!IJ2,2)","v":4},{"$f":"WEEKDAY(Ansatte!IK2,2)","v":5},{"$f":"WEEKDAY(Ansatte!IL2,2)","v":1},{"$f":"WEEKDAY(Ansatte!IM2,2)","v":2},{"$f":"WEEKDAY(Ansatte!IN2,2)","v":3},{"$f":"WEEKDAY(Ansatte!IO2,2)","v":4},{"$f":"WEEKDAY(Ansatte!IP2,2)","v":5},{"$f":"WEEKDAY(Ansatte!IQ2,2)","v":1},{"$f":"WEEKDAY(Ansatte!IR2,2)","v":2},{"$f":"WEEKDAY(Ansatte!IS2,2)","v":3},{"$f":"WEEKDAY(Ansatte!IT2,2)","v":4},{"$f":"WEEKDAY(Ansatte!IU2,2)","v":5},{"$f":"WEEKDAY(Ansatte!IV2,2)","v":1},{"$f":"WEEKDAY(Ansatte!IW2,2)","v":2},{"$f":"WEEKDAY(Ansatte!IX2,2)","v":3},{"$f":"WEEKDAY(Ansatte!IY2,2)","v":4},{"$f":"WEEKDAY(Ansatte!IZ2,2)","v":4},{"$f":"WEEKDAY(Ansatte!JA2,2)","v":5},{"$f":"WEEKDAY(Ansatte!JB2,2)","v":1},{"$f":"WEEKDAY(Ansatte!JC2,2)","v":2},{"$f":"WEEKDAY(Ansatte!JD2,2)","v":3},{"$f":"WEEKDAY(Ansatte!JE2,2)","v":4},{"$f":"WEEKDAY(Ansatte!JF2,2)","v":5},{"$f":"WEEKDAY(Ansatte!JG2,2)","v":1},{"$f":"WEEKDAY(Ansatte!JH2,2)","v":2},{"$f":"WEEKDAY(Ansatte!JI2,2)","v":3},{"$f":"WEEKDAY(Ansatte!JJ2,2)","v":4},{"$f":"WEEKDAY(Ansatte!JK2,2)","v":5},{"$f":"WEEKDAY(Ansatte!JL2,2)","v":1},{"$f":"WEEKDAY(Ansatte!JM2,2)","v":2},{"$f":"WEEKDAY(Ansatte!JN2,2)","v":3},{"$f":"WEEKDAY(Ansatte!JO2,2)","v":4},{"$f":"WEEKDAY(Ansatte!JP2,2)","v":5},{"$f":"WEEKDAY(Ansatte!JQ2,2)","v":1},{"$f":"WEEKDAY(Ansatte!JR2,2)","v":2},{"$f":"WEEKDAY(Ansatte!JS2,2)","v":3},{"$f":"WEEKDAY(Ansatte!JT2,2)","v":4},{"$f":"WEEKDAY(Ansatte!JU2,2)","v":5}]